BEGIN:VCALENDAR
VERSION:2.0
PRODID:-//ANAT - ECPv4.5.13//NONSGML v1.0//EN
CALSCALE:GREGORIAN
METHOD:PUBLISH
X-WR-CALNAME:ANAT
X-ORIGINAL-URL:https://www.anat.ro
X-WR-CALDESC:Events for ANAT
BEGIN:VEVENT
DTSTART;TZID=Europe/Bucharest:20180515T100000
DTEND;TZID=Europe/Bucharest:20180515T160000
DTSTAMP:20260421T234650
CREATED:20180425T130744Z
LAST-MODIFIED:20180425T130744Z
UID:21756-1526378400-1526400000@www.anat.ro
SUMMARY:GDPR curs 1 zi (pentru responsabil intern cu protecția datelor)\, Iași
DESCRIPTION:
URL:https://www.anat.ro/event/gdpr-curs-1-zi-pentru-responsabil-intern-cu-protectia-datelor-iasi/
ORGANIZER;CN="ANAT":MAILTO: office@anat.ro
END:VEVENT
END:VCALENDAR