BEGIN:VCALENDAR
VERSION:2.0
PRODID:-//ANAT - ECPv4.5.13//NONSGML v1.0//EN
CALSCALE:GREGORIAN
METHOD:PUBLISH
X-WR-CALNAME:ANAT
X-ORIGINAL-URL:https://www.anat.ro
X-WR-CALDESC:Events for ANAT
BEGIN:VEVENT
DTSTART;TZID=Europe/Bucharest:20180423T100000
DTEND;TZID=Europe/Bucharest:20180423T170000
DTSTAMP:20260422T003827
CREATED:20180308T092748Z
LAST-MODIFIED:20180319T094426Z
UID:21447-1524477600-1524502800@www.anat.ro
SUMMARY:GDPR curs 1 zi (pentru responsabil intern cu protecția datelor)\, Constanța
DESCRIPTION:
URL:https://www.anat.ro/event/gdpr-curs-1-zi-pentru-responsabil-intern-cu-protectia-datelor-constanta/
END:VEVENT
END:VCALENDAR