BEGIN:VCALENDAR
VERSION:2.0
PRODID:-//ANAT - ECPv4.5.13//NONSGML v1.0//EN
CALSCALE:GREGORIAN
METHOD:PUBLISH
X-WR-CALNAME:ANAT
X-ORIGINAL-URL:https://www.anat.ro
X-WR-CALDESC:Events for ANAT
BEGIN:VEVENT
DTSTART;TZID=Europe/Bucharest:20180426T080000
DTEND;TZID=Europe/Bucharest:20180426T170000
DTSTAMP:20260421T234528
CREATED:20180412T064543Z
LAST-MODIFIED:20180412T064543Z
UID:21679-1524729600-1524762000@www.anat.ro
SUMMARY:GDPR curs 1 zi (pentru responsabil intern cu protecția datelor)\, Cluj
DESCRIPTION:
URL:https://www.anat.ro/event/gdpr-curs-1-zi-pentru-responsabil-intern-cu-protectia-datelor-cluj/
END:VEVENT
END:VCALENDAR