BEGIN:VCALENDAR
VERSION:2.0
PRODID:-//ANAT - ECPv4.5.13//NONSGML v1.0//EN
CALSCALE:GREGORIAN
METHOD:PUBLISH
X-WR-CALNAME:ANAT
X-ORIGINAL-URL:https://www.anat.ro
X-WR-CALDESC:Events for ANAT
BEGIN:VEVENT
DTSTART;TZID=Europe/Bucharest:20180430T100000
DTEND;TZID=Europe/Bucharest:20180430T170000
DTSTAMP:20260421T223747
CREATED:20180404T070436Z
LAST-MODIFIED:20180412T064201Z
UID:21645-1525082400-1525107600@www.anat.ro
SUMMARY:GDPR curs 1 zi (pentru responsabil intern cu protecția datelor)\, Brașov
DESCRIPTION:
URL:https://www.anat.ro/event/gdpr-curs-1-zi-pentru-responsabil-intern-cu-protectia-datelor-cluj-napoca/
ORGANIZER;CN="ANAT":MAILTO: office@anat.ro
END:VEVENT
END:VCALENDAR