BEGIN:VCALENDAR
VERSION:2.0
PRODID:-//ANAT - ECPv4.5.13//NONSGML v1.0//EN
CALSCALE:GREGORIAN
METHOD:PUBLISH
X-WR-CALNAME:ANAT
X-ORIGINAL-URL:https://www.anat.ro
X-WR-CALDESC:Events for ANAT
BEGIN:VEVENT
DTSTART;TZID=Europe/Bucharest:20171003T090000
DTEND;TZID=Europe/Bucharest:20171003T170000
DTSTAMP:20260421T182600
CREATED:20170919T120302Z
LAST-MODIFIED:20170919T120302Z
UID:19746-1507021200-1507050000@www.anat.ro
SUMMARY:FORUM DE AFACERI ROMÂNIA – CROAȚIA\, București
DESCRIPTION:Forum de Afaceri bilateral România – Croaţia\, 3 octombrie 2017 \n \n
URL:https://www.anat.ro/event/forum-de-afaceri-romania-croatia-bucuresti/
END:VEVENT
END:VCALENDAR