BEGIN:VCALENDAR
VERSION:2.0
PRODID:-//ANAT - ECPv4.5.13//NONSGML v1.0//EN
CALSCALE:GREGORIAN
METHOD:PUBLISH
X-WR-CALNAME:ANAT
X-ORIGINAL-URL:https://www.anat.ro
X-WR-CALDESC:Events for ANAT
BEGIN:VEVENT
DTSTART;TZID=Europe/Bucharest:20190123T080000
DTEND;TZID=Europe/Bucharest:20190127T170000
DTSTAMP:20260422T005130
CREATED:20190531T105237Z
LAST-MODIFIED:20190531T105237Z
UID:23913-1548230400-1548608400@www.anat.ro
SUMMARY:FITUR - Madrid\, Spania
DESCRIPTION:
URL:https://www.anat.ro/event/fitur-madrid-spania/
CATEGORIES:Târguri internaționale
END:VEVENT
END:VCALENDAR