BEGIN:VCALENDAR
VERSION:2.0
PRODID:-//ANAT - ECPv4.5.13//NONSGML v1.0//EN
CALSCALE:GREGORIAN
METHOD:PUBLISH
X-WR-CALNAME:ANAT
X-ORIGINAL-URL:https://www.anat.ro
X-WR-CALDESC:Events for ANAT
BEGIN:VEVENT
DTSTART;TZID=Europe/Bucharest:20150129T080000
DTEND;TZID=Europe/Bucharest:20150201T170000
DTSTAMP:20260421T093112
CREATED:20141219T140410Z
LAST-MODIFIED:20141219T140410Z
UID:10139-1422518400-1422810000@www.anat.ro
SUMMARY:FESPO - International Fair for Holidays and Travel\, Zurich\, Elvetia
DESCRIPTION:
URL:https://www.anat.ro/event/fespo-international-fair-for-holidays-and-travel-zurich-elvetia/
END:VEVENT
END:VCALENDAR