BEGIN:VCALENDAR
VERSION:2.0
PRODID:-//ANAT - ECPv4.5.13//NONSGML v1.0//EN
CALSCALE:GREGORIAN
METHOD:PUBLISH
X-WR-CALNAME:ANAT
X-ORIGINAL-URL:https://www.anat.ro
X-WR-CALDESC:Events for ANAT
BEGIN:VEVENT
DTSTART;VALUE=DATE:20170131
DTEND;VALUE=DATE:20170131
DTSTAMP:20260421T093035
CREATED:20170116T090754Z
LAST-MODIFIED:20170201T200836Z
UID:17087-1485820800-1485907199@www.anat.ro
SUMMARY:workshop cu TO ruși
DESCRIPTION:În perioada 29.01 – 01.02.2017 se va desfășura la Moscova vizita delegației agențiilor de turism specializate în incoming pentru prezentarea destinației turistice România și a produselor turistice proprii pentru piața rusă în cadrul unui workshop cu Turoperatorii ruși. \n
URL:https://www.anat.ro/event/delegatie-la-moscova-intalnire-cu-to-rusi/
LOCATION:Moscova\, Rusia\, Federaţia Rusă
CATEGORIES:ANAT
END:VEVENT
END:VCALENDAR