BEGIN:VCALENDAR
VERSION:2.0
PRODID:-//ANAT - ECPv4.5.13//NONSGML v1.0//EN
CALSCALE:GREGORIAN
METHOD:PUBLISH
X-WR-CALNAME:ANAT
X-ORIGINAL-URL:https://www.anat.ro
X-WR-CALDESC:Events for ANAT
BEGIN:VEVENT
DTSTART;TZID=Europe/Bucharest:20180205T100000
DTEND;TZID=Europe/Bucharest:20180205T150000
DTSTAMP:20260421T203421
CREATED:20171218T073903Z
LAST-MODIFIED:20180104T114515Z
UID:20644-1517824800-1517842800@www.anat.ro
SUMMARY:GDPR\, curs o zi pentru manageri\, București
DESCRIPTION:Cursuri GDPR pentru agențiile de turism – program actualizat \n \n
URL:https://www.anat.ro/event/curs-gdpr-bucuresti/
LOCATION:Str. Horia Măcelariu nr. 59\, București\, Sector 1\, 013934\, România
END:VEVENT
END:VCALENDAR