BEGIN:VCALENDAR
VERSION:2.0
PRODID:-//ANAT - ECPv4.5.13//NONSGML v1.0//EN
CALSCALE:GREGORIAN
METHOD:PUBLISH
X-WR-CALNAME:ANAT
X-ORIGINAL-URL:https://www.anat.ro
X-WR-CALDESC:Events for ANAT
BEGIN:VEVENT
DTSTART;TZID=Europe/Bucharest:20141027T093000
DTEND;TZID=Europe/Bucharest:20141101T163000
DTSTAMP:20260419T174744
CREATED:20141130T000043Z
LAST-MODIFIED:20141130T000614Z
UID:9107-1414402200-1414859400@www.anat.ro
SUMMARY:Curs FOUNDATION INTENSIV
DESCRIPTION:Cursul de bază “Foundation in Travel and Tourism” este format din 13 module care prezintă principiile mediului de afaceri al industriei turistice și procedurile tehnice necesare calculului tarifar pentru biletele de avion (include cunoștințe de operare a sistemelor GDS – Global Distribution System). Diploma obținută este recunoscută internațional și permite absolventului utilizarea titulaturii DTTF (diploma in Travel and Tourism Foundation & EBT). Agențiile care emit bilete în sistemul IATA/BSP au nevoie de personal cu această diplomă pentru a fi acreditate\, iar cunoștințele dobândite sunt utile unei game largi de poziții în industria turistică. \n
URL:https://www.anat.ro/event/curs-foundation-intensiv/
LOCATION:Str. Horia Măcelariu nr. 59\, București\, Sector 1\, 013934\, România
CATEGORIES:Cursuri IATA
ORGANIZER;CN="ANAT":MAILTO: office@anat.ro
END:VEVENT
END:VCALENDAR