BEGIN:VCALENDAR
VERSION:2.0
PRODID:-//ANAT - ECPv4.5.13//NONSGML v1.0//EN
CALSCALE:GREGORIAN
METHOD:PUBLISH
X-WR-CALNAME:ANAT
X-ORIGINAL-URL:https://www.anat.ro
X-WR-CALDESC:Events for ANAT
BEGIN:VEVENT
DTSTART;VALUE=DATE:20180115
DTEND;VALUE=DATE:20180115
DTSTAMP:20260421T202707
CREATED:20171218T073037Z
LAST-MODIFIED:20171218T080323Z
UID:20640-1515974400-1516060799@www.anat.ro
SUMMARY:Curs Agent de Turism
DESCRIPTION:Continuă înscrierile la cursurile de calificare „Agent de Turism”! \n \n
URL:https://www.anat.ro/event/curs-agent-de-turism/
LOCATION:Str. Horia Măcelariu nr. 59\, București\, Sector 1\, 013934\, România
END:VEVENT
END:VCALENDAR