BEGIN:VCALENDAR
VERSION:2.0
PRODID:-//ANAT - ECPv4.5.13//NONSGML v1.0//EN
CALSCALE:GREGORIAN
METHOD:PUBLISH
X-WR-CALNAME:ANAT
X-ORIGINAL-URL:https://www.anat.ro
X-WR-CALDESC:Events for ANAT
BEGIN:VEVENT
DTSTART;TZID=Europe/Bucharest:20180125T110000
DTEND;TZID=Europe/Bucharest:20180125T170000
DTSTAMP:20260421T203540
CREATED:20171218T081056Z
LAST-MODIFIED:20180104T114206Z
UID:20651-1516878000-1516899600@www.anat.ro
SUMMARY:Consiliu Director\, Predeal
DESCRIPTION:Articol destinat exclusiv membrilor ANAT! \n[no-access] \n
URL:https://www.anat.ro/event/consiliul-director-predeal/
CATEGORIES:ANAT
END:VEVENT
END:VCALENDAR