BEGIN:VCALENDAR
VERSION:2.0
PRODID:-//ANAT - ECPv4.5.13//NONSGML v1.0//EN
CALSCALE:GREGORIAN
METHOD:PUBLISH
X-WR-CALNAME:ANAT
X-ORIGINAL-URL:https://www.anat.ro
X-WR-CALDESC:Events for ANAT
BEGIN:VEVENT
DTSTART;TZID=Europe/Bucharest:20150221T100000
DTEND;TZID=Europe/Bucharest:20150221T150000
DTSTAMP:20260419T122650
CREATED:20141219T125421Z
LAST-MODIFIED:20141219T133058Z
UID:10120-1424512800-1424530800@www.anat.ro
SUMMARY:Consiliu Regional Nord-Est\, IASI
DESCRIPTION:
URL:https://www.anat.ro/event/consiliu-regional-nord-est/
LOCATION:Strada Lapusneanu\, nr. 1\,\, IASI\, IASI\, România
CATEGORIES:ANAT
ORGANIZER;CN="Grigore%20Alecsa":MAILTO:grigore.alecsa@mareea.ro
END:VEVENT
END:VCALENDAR