BEGIN:VCALENDAR
VERSION:2.0
PRODID:-//ANAT - ECPv4.5.13//NONSGML v1.0//EN
CALSCALE:GREGORIAN
METHOD:PUBLISH
X-WR-CALNAME:ANAT
X-ORIGINAL-URL:https://www.anat.ro
X-WR-CALDESC:Events for ANAT
BEGIN:VEVENT
DTSTART;TZID=Europe/Bucharest:20180116T180000
DTEND;TZID=Europe/Bucharest:20180116T200000
DTSTAMP:20260421T234432
CREATED:20180104T113234Z
LAST-MODIFIED:20180104T113234Z
UID:20730-1516125600-1516132800@www.anat.ro
SUMMARY:Consiliu Regional București Ilfov
DESCRIPTION:
URL:https://www.anat.ro/event/consiliu-regional-bucuresti-ilfov-2/
LOCATION:Calea Dorobanților 50B\, București\, Bucuresti - Sector 1\, România
ORGANIZER;CN="ANAT":MAILTO: office@anat.ro
END:VEVENT
END:VCALENDAR