BEGIN:VCALENDAR
VERSION:2.0
PRODID:-//ANAT - ECPv4.5.13//NONSGML v1.0//EN
CALSCALE:GREGORIAN
METHOD:PUBLISH
X-WR-CALNAME:ANAT
X-ORIGINAL-URL:https://www.anat.ro
X-WR-CALDESC:Events for ANAT
BEGIN:VEVENT
DTSTART;TZID=Europe/Bucharest:20170215T100000
DTEND;TZID=Europe/Bucharest:20170215T120000
DTSTAMP:20260421T141512
CREATED:20170128T180514Z
LAST-MODIFIED:20170128T180514Z
UID:17327-1487152800-1487160000@www.anat.ro
SUMMARY:Conferinţă de presă ANAT
DESCRIPTION:
URL:https://www.anat.ro/event/conferinta-de-presa-anat-2/
LOCATION:Calea Dorobanti 50B\, Bucuresti\, România
END:VEVENT
END:VCALENDAR