BEGIN:VCALENDAR
VERSION:2.0
PRODID:-//ANAT - ECPv4.5.13//NONSGML v1.0//EN
CALSCALE:GREGORIAN
METHOD:PUBLISH
X-WR-CALNAME:ANAT
X-ORIGINAL-URL:https://www.anat.ro
X-WR-CALDESC:Events for ANAT
BEGIN:VEVENT
DTSTART;TZID=Europe/Bucharest:20180327T110000
DTEND;TZID=Europe/Bucharest:20180327T160000
DTSTAMP:20260422T000020
CREATED:20180115T070522Z
LAST-MODIFIED:20180115T073825Z
UID:20882-1522148400-1522166400@www.anat.ro
SUMMARY:Conferința de Fiscalitate pentru Agențiile de Turism\, Cluj-Napoca
DESCRIPTION:Înscrieri la „Conferința de Fiscalitate pentru Agențiile de Turism”- 27.03.2018\, Cluj\, Hotel Napoca \n \n
URL:https://www.anat.ro/event/conferinta-de-fiscalitate-pentru-agentiile-de-turism/
END:VEVENT
END:VCALENDAR