BEGIN:VCALENDAR
VERSION:2.0
PRODID:-//ANAT - ECPv4.5.13//NONSGML v1.0//EN
CALSCALE:GREGORIAN
METHOD:PUBLISH
X-WR-CALNAME:ANAT
X-ORIGINAL-URL:https://www.anat.ro
X-WR-CALDESC:Events for ANAT
BEGIN:VEVENT
DTSTART;VALUE=DATE:20190416
DTEND;VALUE=DATE:20190416
DTSTAMP:20260422T083007
CREATED:20190603T084139Z
LAST-MODIFIED:20190603T084139Z
UID:23978-1555372800-1555459199@www.anat.ro
SUMMARY:Concerte Iris: Lumea toată e un circ\, Hard Rock Cafe\, Ora 21:30
DESCRIPTION:
URL:https://www.anat.ro/event/concerte-iris-lumea-toata-e-un-circ-hard-rock-cafe-ora-2130/
CATEGORIES:Evenimente în București
END:VEVENT
END:VCALENDAR