BEGIN:VCALENDAR
VERSION:2.0
PRODID:-//ANAT - ECPv4.5.13//NONSGML v1.0//EN
CALSCALE:GREGORIAN
METHOD:PUBLISH
X-WR-CALNAME:ANAT
X-ORIGINAL-URL:https://www.anat.ro
X-WR-CALDESC:Events for ANAT
BEGIN:VEVENT
DTSTART;VALUE=DATE:20190406
DTEND;VALUE=DATE:20190406
DTSTAMP:20260423T021318
CREATED:20190603T081855Z
LAST-MODIFIED:20190603T081855Z
UID:23957-1554508800-1554595199@www.anat.ro
SUMMARY:Concert Water Music Festival on tour\, Quantic Club\, Ora 20:00
DESCRIPTION:
URL:https://www.anat.ro/event/concert-water-music-festival-on-tour-quantic-club-ora-2000/
CATEGORIES:Evenimente în București
END:VEVENT
END:VCALENDAR