BEGIN:VCALENDAR
VERSION:2.0
PRODID:-//ANAT - ECPv4.5.13//NONSGML v1.0//EN
CALSCALE:GREGORIAN
METHOD:PUBLISH
X-WR-CALNAME:ANAT
X-ORIGINAL-URL:https://www.anat.ro
X-WR-CALDESC:Events for ANAT
BEGIN:VEVENT
DTSTART;VALUE=DATE:20190403
DTEND;VALUE=DATE:20190403
DTSTAMP:20260422T200402
CREATED:20190531T114531Z
LAST-MODIFIED:20190531T114531Z
UID:23949-1554249600-1554335999@www.anat.ro
SUMMARY:Concert Voltaj\, Hard Rock Cafe\, Ora 21:30
DESCRIPTION:
URL:https://www.anat.ro/event/concert-voltaj-hard-rock-cafe-ora-2130/
CATEGORIES:Evenimente în București
END:VEVENT
END:VCALENDAR