BEGIN:VCALENDAR
VERSION:2.0
PRODID:-//ANAT - ECPv4.5.13//NONSGML v1.0//EN
CALSCALE:GREGORIAN
METHOD:PUBLISH
X-WR-CALNAME:ANAT
X-ORIGINAL-URL:https://www.anat.ro
X-WR-CALDESC:Events for ANAT
BEGIN:VEVENT
DTSTART;VALUE=DATE:20190410
DTEND;VALUE=DATE:20190410
DTSTAMP:20260422T204538
CREATED:20190603T082926Z
LAST-MODIFIED:20190603T082926Z
UID:23967-1554854400-1554940799@www.anat.ro
SUMMARY:Concert The Mono Jacks\, Expirat Club\, Ora 21:00
DESCRIPTION:
URL:https://www.anat.ro/event/concert-the-mono-jacks-expirat-club-ora-2100/
CATEGORIES:Evenimente în București
END:VEVENT
END:VCALENDAR