BEGIN:VCALENDAR
VERSION:2.0
PRODID:-//ANAT - ECPv4.5.13//NONSGML v1.0//EN
CALSCALE:GREGORIAN
METHOD:PUBLISH
X-WR-CALNAME:ANAT
X-ORIGINAL-URL:https://www.anat.ro
X-WR-CALDESC:Events for ANAT
BEGIN:VEVENT
DTSTART;VALUE=DATE:20190423
DTEND;VALUE=DATE:20190423
DTSTAMP:20260422T155905
CREATED:20190606T065837Z
LAST-MODIFIED:20190606T070135Z
UID:24041-1555977600-1556063999@www.anat.ro
SUMMARY:Concert Suffocation\, Belphegor & God Dethroned\, Quantic Club\, Ora 19:00
DESCRIPTION:
URL:https://www.anat.ro/event/concert-suffocation-belphegor-god-dethroned-quantic-club-ora-1900/
CATEGORIES:Evenimente în București
END:VEVENT
END:VCALENDAR