BEGIN:VCALENDAR
VERSION:2.0
PRODID:-//ANAT - ECPv4.5.13//NONSGML v1.0//EN
CALSCALE:GREGORIAN
METHOD:PUBLISH
X-WR-CALNAME:ANAT
X-ORIGINAL-URL:https://www.anat.ro
X-WR-CALDESC:Events for ANAT
BEGIN:VEVENT
DTSTART;VALUE=DATE:20190423
DTEND;VALUE=DATE:20190423
DTSTAMP:20260422T145036
CREATED:20190606T065931Z
LAST-MODIFIED:20190606T070230Z
UID:24042-1555977600-1556063999@www.anat.ro
SUMMARY:Concert Queen Tribute\, Berăria H\, Ora 21:45
DESCRIPTION:
URL:https://www.anat.ro/event/concert-queen-tribute-beraria-h-ora-2145/
CATEGORIES:Evenimente în București
END:VEVENT
END:VCALENDAR