BEGIN:VCALENDAR
VERSION:2.0
PRODID:-//ANAT - ECPv4.5.13//NONSGML v1.0//EN
CALSCALE:GREGORIAN
METHOD:PUBLISH
X-WR-CALNAME:ANAT
X-ORIGINAL-URL:https://www.anat.ro
X-WR-CALDESC:Events for ANAT
BEGIN:VEVENT
DTSTART;TZID=Europe/Bucharest:20190425T080000
DTEND;TZID=Europe/Bucharest:20190425T170000
DTSTAMP:20260422T111259
CREATED:20190606T073854Z
LAST-MODIFIED:20190606T073854Z
UID:24047-1556179200-1556211600@www.anat.ro
SUMMARY:Concert Omul cu Șobolani\, Expirat Club\, Ora 20:00
DESCRIPTION:
URL:https://www.anat.ro/event/concert-omul-cu-sobolani-expirat-club-ora-2000/
CATEGORIES:Evenimente în București
END:VEVENT
END:VCALENDAR