BEGIN:VCALENDAR
VERSION:2.0
PRODID:-//ANAT - ECPv4.5.13//NONSGML v1.0//EN
CALSCALE:GREGORIAN
METHOD:PUBLISH
X-WR-CALNAME:ANAT
X-ORIGINAL-URL:https://www.anat.ro
X-WR-CALDESC:Events for ANAT
BEGIN:VEVENT
DTSTART;VALUE=DATE:20190405
DTEND;VALUE=DATE:20190405
DTSTAMP:20260422T223204
CREATED:20190531T114804Z
LAST-MODIFIED:20190531T114804Z
UID:23952-1554422400-1554508799@www.anat.ro
SUMMARY:Concert La Vida Loca\, PMB / creart /Teatrelli /  Piaţa Lahovari 7\, Ora 19:00
DESCRIPTION:
URL:https://www.anat.ro/event/concert-la-vida-loca-pmb-creart-teatrelli-piata-lahovari-7-ora-1900/
CATEGORIES:Evenimente în București
END:VEVENT
END:VCALENDAR