BEGIN:VCALENDAR
VERSION:2.0
PRODID:-//ANAT - ECPv4.5.13//NONSGML v1.0//EN
CALSCALE:GREGORIAN
METHOD:PUBLISH
X-WR-CALNAME:ANAT
X-ORIGINAL-URL:https://www.anat.ro
X-WR-CALDESC:Events for ANAT
BEGIN:VEVENT
DTSTART;VALUE=DATE:20190415
DTEND;VALUE=DATE:20190415
DTSTAMP:20260422T082237
CREATED:20190603T084100Z
LAST-MODIFIED:20190603T084100Z
UID:23977-1555286400-1555372799@www.anat.ro
SUMMARY:Concert Jinxy Von D'Ers\, Expirat Club\, Ora 20:00
DESCRIPTION:
URL:https://www.anat.ro/event/concert-jinxy-von-ders-expirat-club-ora-2000/
CATEGORIES:Evenimente în București
END:VEVENT
END:VCALENDAR