BEGIN:VCALENDAR
VERSION:2.0
PRODID:-//ANAT - ECPv4.5.13//NONSGML v1.0//EN
CALSCALE:GREGORIAN
METHOD:PUBLISH
X-WR-CALNAME:ANAT
X-ORIGINAL-URL:https://www.anat.ro
X-WR-CALDESC:Events for ANAT
BEGIN:VEVENT
DTSTART;VALUE=DATE:20190410
DTEND;VALUE=DATE:20190410
DTSTAMP:20260422T193807
CREATED:20190603T083000Z
LAST-MODIFIED:20190603T083000Z
UID:23968-1554854400-1554940799@www.anat.ro
SUMMARY:Concert Irina Rimes\, Hard Rock Cafe\, Ora 21:30
DESCRIPTION:
URL:https://www.anat.ro/event/concert-irina-rimes-hard-rock-cafe-ora-2130/
CATEGORIES:Evenimente în București
END:VEVENT
END:VCALENDAR