BEGIN:VCALENDAR
VERSION:2.0
PRODID:-//ANAT - ECPv4.5.13//NONSGML v1.0//EN
CALSCALE:GREGORIAN
METHOD:PUBLISH
X-WR-CALNAME:ANAT
X-ORIGINAL-URL:https://www.anat.ro
X-WR-CALDESC:Events for ANAT
BEGIN:VEVENT
DTSTART;VALUE=DATE:20190409
DTEND;VALUE=DATE:20190409
DTSTAMP:20260423T003620
CREATED:20190603T082510Z
LAST-MODIFIED:20190603T082510Z
UID:23964-1554768000-1554854399@www.anat.ro
SUMMARY:Concert Erlend Krauser\, Hard Rock Cafe\, Ora 21:30
DESCRIPTION:
URL:https://www.anat.ro/event/concert-erlend-krauser-hard-rock-cafe-ora-2130/
CATEGORIES:Evenimente în București
END:VEVENT
END:VCALENDAR