BEGIN:VCALENDAR
VERSION:2.0
PRODID:-//ANAT - ECPv4.5.13//NONSGML v1.0//EN
CALSCALE:GREGORIAN
METHOD:PUBLISH
X-WR-CALNAME:ANAT
X-ORIGINAL-URL:https://www.anat.ro
X-WR-CALDESC:Events for ANAT
BEGIN:VEVENT
DTSTART;TZID=Europe/Bucharest:20190405T080000
DTEND;TZID=Europe/Bucharest:20190405T170000
DTSTAMP:20260423T005843
CREATED:20190531T114930Z
LAST-MODIFIED:20190531T114930Z
UID:23954-1554451200-1554483600@www.anat.ro
SUMMARY:Concert E.M.I.L.\, Fabrica\, Ora 21:00
DESCRIPTION:
URL:https://www.anat.ro/event/concert-e-m-i-l-fabrica-ora-2100/
CATEGORIES:Evenimente în București
END:VEVENT
END:VCALENDAR