BEGIN:VCALENDAR
VERSION:2.0
PRODID:-//ANAT - ECPv4.5.13//NONSGML v1.0//EN
CALSCALE:GREGORIAN
METHOD:PUBLISH
X-WR-CALNAME:ANAT
X-ORIGINAL-URL:https://www.anat.ro
X-WR-CALDESC:Events for ANAT
BEGIN:VEVENT
DTSTART;VALUE=DATE:20190406
DTEND;VALUE=DATE:20190406
DTSTAMP:20260423T032147
CREATED:20190603T082010Z
LAST-MODIFIED:20190603T082010Z
UID:23958-1554508800-1554595199@www.anat.ro
SUMMARY:Concert Cred Că Sunt Extraterestru\, Deschis Atelier\, Ora 22:00
DESCRIPTION:
URL:https://www.anat.ro/event/concert-cred-ca-sunt-extraterestru-deschis-atelier-ora-2200/
CATEGORIES:Evenimente în București
END:VEVENT
END:VCALENDAR