BEGIN:VCALENDAR
VERSION:2.0
PRODID:-//ANAT - ECPv4.5.13//NONSGML v1.0//EN
CALSCALE:GREGORIAN
METHOD:PUBLISH
X-WR-CALNAME:ANAT
X-ORIGINAL-URL:https://www.anat.ro
X-WR-CALDESC:Events for ANAT
BEGIN:VEVENT
DTSTART;VALUE=DATE:20190403
DTEND;VALUE=DATE:20190403
DTSTAMP:20260422T211744
CREATED:20190531T114458Z
LAST-MODIFIED:20190531T114458Z
UID:23948-1554249600-1554335999@www.anat.ro
SUMMARY:Concert Coma / Sunet Fin\, Expirat Club\, Ora 20:00
DESCRIPTION:
URL:https://www.anat.ro/event/concert-coma-sunet-fin-expirat-club-ora-2000/
CATEGORIES:Evenimente în București
END:VEVENT
END:VCALENDAR