BEGIN:VCALENDAR
VERSION:2.0
PRODID:-//ANAT - ECPv4.5.13//NONSGML v1.0//EN
CALSCALE:GREGORIAN
METHOD:PUBLISH
X-WR-CALNAME:ANAT
X-ORIGINAL-URL:https://www.anat.ro
X-WR-CALDESC:Events for ANAT
BEGIN:VEVENT
DTSTART;VALUE=DATE:20190410
DTEND;VALUE=DATE:20190410
DTSTAMP:20260422T220139
CREATED:20190603T082821Z
LAST-MODIFIED:20190603T082821Z
UID:23966-1554854400-1554940799@www.anat.ro
SUMMARY:Concert Cardinal\, Club Control\, Ora 21:00
DESCRIPTION:
URL:https://www.anat.ro/event/concert-cardinal-club-control-ora-2100/
CATEGORIES:Evenimente în București
END:VEVENT
END:VCALENDAR