BEGIN:VCALENDAR
VERSION:2.0
PRODID:-//ANAT - ECPv4.5.13//NONSGML v1.0//EN
CALSCALE:GREGORIAN
METHOD:PUBLISH
X-WR-CALNAME:ANAT
X-ORIGINAL-URL:https://www.anat.ro
X-WR-CALDESC:Events for ANAT
BEGIN:VEVENT
DTSTART;VALUE=DATE:20190424
DTEND;VALUE=DATE:20190424
DTSTAMP:20260422T133418
CREATED:20190606T073605Z
LAST-MODIFIED:20190606T073605Z
UID:24045-1556064000-1556150399@www.anat.ro
SUMMARY:Concert Bucovina\, Hard Rock Cafe\, Ora 21:30
DESCRIPTION:
URL:https://www.anat.ro/event/concert-bucovina-hard-rock-cafe-ora-2130/
CATEGORIES:Evenimente în București
END:VEVENT
END:VCALENDAR