BEGIN:VCALENDAR
VERSION:2.0
PRODID:-//ANAT - ECPv4.5.13//NONSGML v1.0//EN
CALSCALE:GREGORIAN
METHOD:PUBLISH
X-WR-CALNAME:ANAT
X-ORIGINAL-URL:https://www.anat.ro
X-WR-CALDESC:Events for ANAT
BEGIN:VEVENT
DTSTART;TZID=Europe/Bucharest:20150122T100000
DTEND;TZID=Europe/Bucharest:20150122T113000
DTSTAMP:20260419T120206
CREATED:20141203T140019Z
LAST-MODIFIED:20141203T140019Z
UID:9861-1421920800-1421926200@www.anat.ro
SUMMARY:BEx
DESCRIPTION:
URL:https://www.anat.ro/event/bex/
LOCATION:Hotel Rozmarin\,\, Predeal\, România
CATEGORIES:ANAT
END:VEVENT
END:VCALENDAR