BEGIN:VCALENDAR
VERSION:2.0
PRODID:-//ANAT - ECPv4.5.13//NONSGML v1.0//EN
CALSCALE:GREGORIAN
METHOD:PUBLISH
X-WR-CALNAME:ANAT
X-ORIGINAL-URL:https://www.anat.ro
X-WR-CALDESC:Events for ANAT
BEGIN:VEVENT
DTSTART;TZID=Europe/Bucharest:20180411T110000
DTEND;TZID=Europe/Bucharest:20180411T130000
DTSTAMP:20260421T224413
CREATED:20180409T070013Z
LAST-MODIFIED:20180409T070013Z
UID:21662-1523444400-1523451600@www.anat.ro
SUMMARY:BEX
DESCRIPTION:
URL:https://www.anat.ro/event/bex-2/
LOCATION:Str. Horia Măcelariu nr. 59\, București\, Sector 1\, 013934\, România
CATEGORIES:ANAT
ORGANIZER;CN="ANAT":MAILTO: office@anat.ro
END:VEVENT
END:VCALENDAR