BEGIN:VCALENDAR
VERSION:2.0
PRODID:-//ANAT - ECPv4.5.13//NONSGML v1.0//EN
CALSCALE:GREGORIAN
METHOD:PUBLISH
X-WR-CALNAME:ANAT
X-ORIGINAL-URL:https://www.anat.ro
X-WR-CALDESC:Events for ANAT
BEGIN:VEVENT
DTSTART;TZID=Europe/Bucharest:20180116T173000
DTEND;TZID=Europe/Bucharest:20180116T193000
DTSTAMP:20260421T235032
CREATED:20180108T141335Z
LAST-MODIFIED:20180108T141515Z
UID:20779-1516123800-1516131000@www.anat.ro
SUMMARY:Alegeri: regiunea București Ilfov
DESCRIPTION:Alegeri pentru conducerea regiunii ANAT București Ilfov \n \n
URL:https://www.anat.ro/event/alegeri-regiunea-bucuresti-ilfov/
END:VEVENT
END:VCALENDAR