BEGIN:VCALENDAR
VERSION:2.0
PRODID:-//ANAT - ECPv4.5.13//NONSGML v1.0//EN
CALSCALE:GREGORIAN
METHOD:PUBLISH
X-WR-CALNAME:ANAT
X-ORIGINAL-URL:https://www.anat.ro
X-WR-CALDESC:Events for ANAT
BEGIN:VEVENT
DTSTART;TZID=Europe/Bucharest:20150311T130000
DTEND;TZID=Europe/Bucharest:20150311T170000
DTSTAMP:20260421T080541
CREATED:20141203T140553Z
LAST-MODIFIED:20141203T145755Z
UID:9864-1426078800-1426093200@www.anat.ro
SUMMARY:AG ANAT
DESCRIPTION:
URL:https://www.anat.ro/event/ag-anat/
LOCATION:bul Aerogarii\, Bucharest\, Bucharest\, România
CATEGORIES:ANAT
ORGANIZER;CN="ANAT":MAILTO: office@anat.ro
END:VEVENT
END:VCALENDAR