BEGIN:VCALENDAR
VERSION:2.0
PRODID:-//ANAT - ECPv4.5.13//NONSGML v1.0//EN
CALSCALE:GREGORIAN
METHOD:PUBLISH
X-WR-CALNAME:ANAT
X-ORIGINAL-URL:https://www.anat.ro
X-WR-CALDESC:Events for ANAT
BEGIN:VEVENT
DTSTART;TZID=Europe/Bucharest:20191119T080000
DTEND;TZID=Europe/Bucharest:20191121T170000
DTSTAMP:20260425T040308
CREATED:20190531T112310Z
LAST-MODIFIED:20190531T112310Z
UID:23939-1574150400-1574355600@www.anat.ro
SUMMARY:IBTM - Barcelona\, Spania
DESCRIPTION:
URL:https://www.anat.ro/event/ibtm-barcelona-spania/
CATEGORIES:Târguri internaționale
END:VEVENT
BEGIN:VEVENT
DTSTART;TZID=Europe/Bucharest:20191121T080000
DTEND;TZID=Europe/Bucharest:20191123T170000
DTSTAMP:20260425T040308
CREATED:20190531T112230Z
LAST-MODIFIED:20190531T112230Z
UID:23938-1574323200-1574528400@www.anat.ro
SUMMARY:Tour and Travel - Varșovia\, Polonia
DESCRIPTION:
URL:https://www.anat.ro/event/tour-and-travel-varsovia-polonia/
CATEGORIES:Târguri internaționale
END:VEVENT
END:VCALENDAR