BEGIN:VCALENDAR
VERSION:2.0
PRODID:-//ANAT - ECPv4.5.13//NONSGML v1.0//EN
CALSCALE:GREGORIAN
METHOD:PUBLISH
X-WR-CALNAME:ANAT
X-ORIGINAL-URL:https://www.anat.ro
X-WR-CALDESC:Events for ANAT
BEGIN:VEVENT
DTSTART;TZID=Europe/Bucharest:20190515T080000
DTEND;TZID=Europe/Bucharest:20190517T170000
DTSTAMP:20260425T130000
CREATED:20190531T111944Z
LAST-MODIFIED:20190531T111944Z
UID:23934-1557907200-1558112400@www.anat.ro
SUMMARY:ITB Shanghai - Shanghai\, China
DESCRIPTION:
URL:https://www.anat.ro/event/itb-shanghai-shanghai-china/
CATEGORIES:Târguri internaționale
END:VEVENT
END:VCALENDAR